BEGIN:VCALENDAR
VERSION:2.0
PRODID:-//Fillmore County - ECPv6.15.20//NONSGML v1.0//EN
CALSCALE:GREGORIAN
METHOD:PUBLISH
X-ORIGINAL-URL:https://fillmorecountyne.gov
X-WR-CALDESC:Events for Fillmore County
REFRESH-INTERVAL;VALUE=DURATION:PT1H
X-Robots-Tag:noindex
X-PUBLISHED-TTL:PT1H
BEGIN:VTIMEZONE
TZID:America/Chicago
BEGIN:DAYLIGHT
TZOFFSETFROM:-0600
TZOFFSETTO:-0500
TZNAME:CDT
DTSTART:20240310T080000
END:DAYLIGHT
BEGIN:STANDARD
TZOFFSETFROM:-0500
TZOFFSETTO:-0600
TZNAME:CST
DTSTART:20241103T070000
END:STANDARD
BEGIN:DAYLIGHT
TZOFFSETFROM:-0600
TZOFFSETTO:-0500
TZNAME:CDT
DTSTART:20250309T080000
END:DAYLIGHT
BEGIN:STANDARD
TZOFFSETFROM:-0500
TZOFFSETTO:-0600
TZNAME:CST
DTSTART:20251102T070000
END:STANDARD
BEGIN:DAYLIGHT
TZOFFSETFROM:-0600
TZOFFSETTO:-0500
TZNAME:CDT
DTSTART:20260308T080000
END:DAYLIGHT
BEGIN:STANDARD
TZOFFSETFROM:-0500
TZOFFSETTO:-0600
TZNAME:CST
DTSTART:20261101T070000
END:STANDARD
END:VTIMEZONE
BEGIN:VEVENT
DTSTART;TZID=America/Chicago:20250801T083000
DTEND;TZID=America/Chicago:20250801T160000
DTSTAMP:20260421T033045
CREATED:20241008T163710Z
LAST-MODIFIED:20250613T153218Z
UID:10001323-1754037000-1754064000@fillmorecountyne.gov
SUMMARY:Driver's Exam
DESCRIPTION:Hours: 8:30 a.m. to noon and 1:00 p.m. to 4:00 p.m. Unless the Courthouse is closed.
URL:https://fillmorecountyne.gov/event/drivers-exam/2025-08-01/
LOCATION:Courthouse DMV\, 900 G St\, Geneva\, NE\, 68361\, United States
CATEGORIES:Driver's Exam
END:VEVENT
BEGIN:VEVENT
DTSTART;TZID=America/Chicago:20250807T083000
DTEND;TZID=America/Chicago:20250807T160000
DTSTAMP:20260421T033045
CREATED:20241008T163710Z
LAST-MODIFIED:20250613T153218Z
UID:10001324-1754555400-1754582400@fillmorecountyne.gov
SUMMARY:Driver's Exam
DESCRIPTION:Hours: 8:30 a.m. to noon and 1:00 p.m. to 4:00 p.m. Unless the Courthouse is closed.
URL:https://fillmorecountyne.gov/event/drivers-exam/2025-08-07/
LOCATION:Courthouse DMV\, 900 G St\, Geneva\, NE\, 68361\, United States
CATEGORIES:Driver's Exam
END:VEVENT
BEGIN:VEVENT
DTSTART;TZID=America/Chicago:20250808T083000
DTEND;TZID=America/Chicago:20250808T160000
DTSTAMP:20260421T033045
CREATED:20241008T163710Z
LAST-MODIFIED:20250613T153218Z
UID:10001325-1754641800-1754668800@fillmorecountyne.gov
SUMMARY:Driver's Exam
DESCRIPTION:Hours: 8:30 a.m. to noon and 1:00 p.m. to 4:00 p.m. Unless the Courthouse is closed.
URL:https://fillmorecountyne.gov/event/drivers-exam/2025-08-08/
LOCATION:Courthouse DMV\, 900 G St\, Geneva\, NE\, 68361\, United States
CATEGORIES:Driver's Exam
END:VEVENT
BEGIN:VEVENT
DTSTART;TZID=America/Chicago:20250812T090000
DTEND;TZID=America/Chicago:20250812T160000
DTSTAMP:20260421T033045
CREATED:20241008T164051Z
LAST-MODIFIED:20250513T191522Z
UID:10000856-1754989200-1755014400@fillmorecountyne.gov
SUMMARY:County Board Meeting
DESCRIPTION:This is a county board meeting. An agenda can be found on the Board Meetings page.
URL:https://fillmorecountyne.gov/event/county-board-meeting-2/2025-08-12/
LOCATION:Courthouse Board Room\, 900 G St\, Geneva\, NE\, 68361\, United States
CATEGORIES:County Board Meeting
END:VEVENT
BEGIN:VEVENT
DTSTART;TZID=America/Chicago:20250814T083000
DTEND;TZID=America/Chicago:20250814T160000
DTSTAMP:20260421T033045
CREATED:20241008T163710Z
LAST-MODIFIED:20250613T153218Z
UID:10001326-1755160200-1755187200@fillmorecountyne.gov
SUMMARY:Driver's Exam
DESCRIPTION:Hours: 8:30 a.m. to noon and 1:00 p.m. to 4:00 p.m. Unless the Courthouse is closed.
URL:https://fillmorecountyne.gov/event/drivers-exam/2025-08-14/
LOCATION:Courthouse DMV\, 900 G St\, Geneva\, NE\, 68361\, United States
CATEGORIES:Driver's Exam
END:VEVENT
BEGIN:VEVENT
DTSTART;TZID=America/Chicago:20250815T083000
DTEND;TZID=America/Chicago:20250815T160000
DTSTAMP:20260421T033045
CREATED:20241008T163710Z
LAST-MODIFIED:20250613T153218Z
UID:10001327-1755246600-1755273600@fillmorecountyne.gov
SUMMARY:Driver's Exam
DESCRIPTION:Hours: 8:30 a.m. to noon and 1:00 p.m. to 4:00 p.m. Unless the Courthouse is closed.
URL:https://fillmorecountyne.gov/event/drivers-exam/2025-08-15/
LOCATION:Courthouse DMV\, 900 G St\, Geneva\, NE\, 68361\, United States
CATEGORIES:Driver's Exam
END:VEVENT
BEGIN:VEVENT
DTSTART;TZID=America/Chicago:20250818T200000
DTEND;TZID=America/Chicago:20250818T210000
DTSTAMP:20260421T033045
CREATED:20241008T165144Z
LAST-MODIFIED:20250515T195335Z
UID:10001116-1755547200-1755550800@fillmorecountyne.gov
SUMMARY:Planning Commission Meeting
DESCRIPTION:This is a planning commission meeting. An agenda can be found on the Planning and Zoning Meetings page.
URL:https://fillmorecountyne.gov/event/planning-commission-meeting/2025-08-18/
LOCATION:East Building Conference Room\, 1320 G Street\, Geneva\, 68361\, United States
CATEGORIES:Planning Commission
END:VEVENT
BEGIN:VEVENT
DTSTART;TZID=America/Chicago:20250821T083000
DTEND;TZID=America/Chicago:20250821T160000
DTSTAMP:20260421T033045
CREATED:20241008T163710Z
LAST-MODIFIED:20250613T153218Z
UID:10001328-1755765000-1755792000@fillmorecountyne.gov
SUMMARY:Driver's Exam
DESCRIPTION:Hours: 8:30 a.m. to noon and 1:00 p.m. to 4:00 p.m. Unless the Courthouse is closed.
URL:https://fillmorecountyne.gov/event/drivers-exam/2025-08-21/
LOCATION:Courthouse DMV\, 900 G St\, Geneva\, NE\, 68361\, United States
CATEGORIES:Driver's Exam
END:VEVENT
BEGIN:VEVENT
DTSTART;TZID=America/Chicago:20250822T083000
DTEND;TZID=America/Chicago:20250822T160000
DTSTAMP:20260421T033045
CREATED:20241008T163710Z
LAST-MODIFIED:20250613T153218Z
UID:10001329-1755851400-1755878400@fillmorecountyne.gov
SUMMARY:Driver's Exam
DESCRIPTION:Hours: 8:30 a.m. to noon and 1:00 p.m. to 4:00 p.m. Unless the Courthouse is closed.
URL:https://fillmorecountyne.gov/event/drivers-exam/2025-08-22/
LOCATION:Courthouse DMV\, 900 G St\, Geneva\, NE\, 68361\, United States
CATEGORIES:Driver's Exam
END:VEVENT
BEGIN:VEVENT
DTSTART;TZID=America/Chicago:20250826T090000
DTEND;TZID=America/Chicago:20250826T160000
DTSTAMP:20260421T033045
CREATED:20241008T164148Z
LAST-MODIFIED:20250513T185731Z
UID:10000976-1756198800-1756224000@fillmorecountyne.gov
SUMMARY:County Board Meeting
DESCRIPTION:This is a county board meeting. An agenda can be found on the Board Meetings page.
URL:https://fillmorecountyne.gov/event/county-board-meeting-3/2025-08-26/
LOCATION:Courthouse Board Room\, 900 G St\, Geneva\, NE\, 68361\, United States
CATEGORIES:County Board Meeting
END:VEVENT
BEGIN:VEVENT
DTSTART;TZID=America/Chicago:20250828T083000
DTEND;TZID=America/Chicago:20250828T160000
DTSTAMP:20260421T033045
CREATED:20241008T163710Z
LAST-MODIFIED:20250613T153218Z
UID:10001330-1756369800-1756396800@fillmorecountyne.gov
SUMMARY:Driver's Exam
DESCRIPTION:Hours: 8:30 a.m. to noon and 1:00 p.m. to 4:00 p.m. Unless the Courthouse is closed.
URL:https://fillmorecountyne.gov/event/drivers-exam/2025-08-28/
LOCATION:Courthouse DMV\, 900 G St\, Geneva\, NE\, 68361\, United States
CATEGORIES:Driver's Exam
END:VEVENT
BEGIN:VEVENT
DTSTART;TZID=America/Chicago:20250829T083000
DTEND;TZID=America/Chicago:20250829T160000
DTSTAMP:20260421T033045
CREATED:20241008T163710Z
LAST-MODIFIED:20250613T153218Z
UID:10001331-1756456200-1756483200@fillmorecountyne.gov
SUMMARY:Driver's Exam
DESCRIPTION:Hours: 8:30 a.m. to noon and 1:00 p.m. to 4:00 p.m. Unless the Courthouse is closed.
URL:https://fillmorecountyne.gov/event/drivers-exam/2025-08-29/
LOCATION:Courthouse DMV\, 900 G St\, Geneva\, NE\, 68361\, United States
CATEGORIES:Driver's Exam
END:VEVENT
END:VCALENDAR